BEGIN:VCALENDAR
VERSION:2.0
PRODID:-//OPTICS11 Fiber Optic Sensing Solutions - ECPv6.15.18//NONSGML v1.0//EN
CALSCALE:GREGORIAN
METHOD:PUBLISH
X-WR-CALNAME:OPTICS11 Fiber Optic Sensing Solutions
X-ORIGINAL-URL:https://optics11.com
X-WR-CALDESC:Events for OPTICS11 Fiber Optic Sensing Solutions
REFRESH-INTERVAL;VALUE=DURATION:PT1H
X-Robots-Tag:noindex
X-PUBLISHED-TTL:PT1H
BEGIN:VTIMEZONE
TZID:Europe/London
BEGIN:DAYLIGHT
TZOFFSETFROM:+0000
TZOFFSETTO:+0100
TZNAME:BST
DTSTART:20250330T010000
END:DAYLIGHT
BEGIN:STANDARD
TZOFFSETFROM:+0100
TZOFFSETTO:+0000
TZNAME:GMT
DTSTART:20251026T010000
END:STANDARD
BEGIN:DAYLIGHT
TZOFFSETFROM:+0000
TZOFFSETTO:+0100
TZNAME:BST
DTSTART:20260329T010000
END:DAYLIGHT
BEGIN:STANDARD
TZOFFSETFROM:+0100
TZOFFSETTO:+0000
TZNAME:GMT
DTSTART:20261025T010000
END:STANDARD
BEGIN:DAYLIGHT
TZOFFSETFROM:+0000
TZOFFSETTO:+0100
TZNAME:BST
DTSTART:20270328T010000
END:DAYLIGHT
BEGIN:STANDARD
TZOFFSETFROM:+0100
TZOFFSETTO:+0000
TZNAME:GMT
DTSTART:20271031T010000
END:STANDARD
END:VTIMEZONE
BEGIN:VTIMEZONE
TZID:UTC
BEGIN:STANDARD
TZOFFSETFROM:+0000
TZOFFSETTO:+0000
TZNAME:UTC
DTSTART:20250101T000000
END:STANDARD
END:VTIMEZONE
BEGIN:VEVENT
DTSTART;VALUE=DATE:20260413
DTEND;VALUE=DATE:20260424
DTSTAMP:20260421T135205
CREATED:20251103T143647Z
LAST-MODIFIED:20260217T092107Z
UID:10000007-1776038400-1776988799@optics11.com
SUMMARY:SeaSec26
DESCRIPTION:Optics11 will participate in the SeaSEC Challenge Weeks\, demonstrating how persistent\, real-time seabed monitoring strengthens maritime and offshore infrastructure protection. \nDuring SeaSEC\, we will showcase: \nOptiBarrier\nImmediate\, Over-the-Horizon Threat Detection\, 24/7.OptiBarrier is a passive\, all-optical seabed hydrophone network designed for continuous monitoring of ports\, naval bases\, offshore wind farms\, pipelines\, and subsea cables. With no wet-end electronics and high-fidelity acoustic acquisition (10 Hz–10 kHz; noise floor below Sea State 0)\, it delivers covert\, reliable early warning and wide-area situational awareness \nSeaSEC provides a live environment to demonstrate: \n\nDetection and tracking of underwater threats\nReal-time data streaming and processing\nIntegration pathways into command-and-control systems\nMulti-partner ecosystem collaboration for full-system delivery\n\nAs part of our Underwater Security portfolio\, OptiBarrier enables authorities and asset owners to close underwater domain awareness gaps and gain critical reaction time. \n📍 Event website: https://seasec.org/challenge-weeks/Let’s connect during SeaSEC to discuss how persistent seabed monitoring enhances maritime resilience.
URL:https://optics11.com/event/seasec26/
LOCATION:Rostock\, Germany
CATEGORIES:Underwater Security
END:VEVENT
BEGIN:VEVENT
DTSTART;TZID=UTC:20260420T080000
DTEND;TZID=UTC:20260423T170000
DTSTAMP:20260421T135205
CREATED:20251219T092820Z
LAST-MODIFIED:20260217T091724Z
UID:10000014-1776672000-1776963600@optics11.com
SUMMARY:Defence Services Asia DSA 2026 & NATSEC Asia
DESCRIPTION:Optics11 will participate in DSA & NATSEC Asia 2026 as part of the Netherlands Pavilion\, showcasing advanced optical sensing solutions for persistent Underwater Security. \nAt the event\, we will highlight: \nOptiBarrier\nImmediate\, Over-the-Horizon Threat Detection\, 24/7.Our passive\, all-optical seabed monitoring system provides real-time detection and tracking of underwater threats without wet-end electronics. Designed for ports\, naval bases\, offshore energy infrastructure\, and subsea cables\, OptiBarrier creates a covert acoustic security curtain with wide-area coverage and high reliability \nOptiArray\nOur low-power\, thin-line optical towed array enables scalable passive acoustic surveillance for submarines and unmanned systems. With all-optical sensing and intrinsic EMI immunity\, it delivers high sensitivity in compact\, winchable form factors \nWhy visit us at the NL Pavilion?\n\nLearn how persistent seabed monitoring strengthens national maritime resilience\nExplore integration options for naval forces\, coast guards\, and critical infrastructure operators\nDiscuss scalable deployment models for ports\, chokepoints\, and offshore assets\n\n📍 Find us at the Netherlands Pavilion🌏 DSA & NATSEC Asia 2026 \nLet’s discuss how earlier warnings enable more effective response.
URL:https://optics11.com/event/defence-services-asia-dsa-2026-natsec-asia/
CATEGORIES:Underwater Security
END:VEVENT
END:VCALENDAR